BEGIN:VCALENDAR
VERSION:2.0
PRODID:-//urwahl3000//gruene-eggstaett.de//DE
CALSCALE:GREGORIAN
BEGIN:VEVENT
DTSTART:20200307T070000
DTEND:20200307T070000
LOCATION:Birner Garten Eggstätt
DTSTAMP:20200307T070000
SUMMARY:Fragt die Grünen im Birner Garten
URL;VALUE=URI:https://gruene-eggstaett.de/termin/triff-die-gruenen-im-birner-garten/
DESCRIPTION:Meet and Greet - der Bürgermeisterkandidat der Grünen Jacob Illi stellt sich mit seinen Gemeinderatskandidat*innen und dem kürzlich veröffentlichten Wahlprogramm vor.

 
UID:20200307T070000-20200307T070000-20200307T070000
END:VEVENT
END:VCALENDAR