BEGIN:VCALENDAR
VERSION:2.0
PRODID:-//urwahl3000//gruene-eggstaett.de//DE
CALSCALE:GREGORIAN
BEGIN:VEVENT
DTSTART:20200113T190000
DTEND:20200113T190000
LOCATION:Il Sogno Eggstätt
DTSTAMP:20200113T190000
SUMMARY:Öffentlicher Stammtisch der Eggstätter Grünen
URL;VALUE=URI:https://gruene-eggstaett.de/termin/oeffentlicher-stammtisch-der-eggstaetter-gruenen/
DESCRIPTION:<div></div>
UID:20200113T190000-20200113T190000-20200113T190000
END:VEVENT
END:VCALENDAR