BEGIN:VCALENDAR
VERSION:2.0
PRODID:-//urwahl3000//gruene-eggstaett.de//DE
CALSCALE:GREGORIAN
BEGIN:VEVENT
DTSTART:20190826T190000
DTEND:20190826T190000
LOCATION: 
DTSTAMP:20190826T190000
SUMMARY:Geschützt: AK Verkehr Stadtentwicklung Bauen
URL;VALUE=URI:https://gruene-eggstaett.de/termin/ak-verkehr-stadtentwicklung-bauen/
DESCRIPTION:Ort Drosselweg 13,

Stand: Thema Verkehr ist bearbeitet - Sebastian arbeitet an der textlichen ausarbeitung
Nächstes Thema: Stadtentwicklung

Hier das Protokoll

<a href="http://www.gruene-bad-aibling.de/termin/ak-verkehr-stadtentwicklung-bauen/ag-verkehr2/" rel="attachment wp-att-1088">AG Verkehr2</a>
UID:20190826T190000-20190826T190000-20190826T190000
END:VEVENT
END:VCALENDAR